BEGIN:VCALENDAR
VERSION:2.0
PRODID:-//Stadtlabor Wittenberg - ECPv6.15.20//NONSGML v1.0//EN
CALSCALE:GREGORIAN
METHOD:PUBLISH
X-WR-CALNAME:Stadtlabor Wittenberg
X-ORIGINAL-URL:https://stadtlabor-wittenberg.de
X-WR-CALDESC:Veranstaltungen für Stadtlabor Wittenberg
REFRESH-INTERVAL;VALUE=DURATION:PT1H
X-Robots-Tag:noindex
X-PUBLISHED-TTL:PT1H
BEGIN:VTIMEZONE
TZID:Europe/Berlin
BEGIN:DAYLIGHT
TZOFFSETFROM:+0100
TZOFFSETTO:+0200
TZNAME:CEST
DTSTART:20240331T010000
END:DAYLIGHT
BEGIN:STANDARD
TZOFFSETFROM:+0200
TZOFFSETTO:+0100
TZNAME:CET
DTSTART:20241027T010000
END:STANDARD
BEGIN:DAYLIGHT
TZOFFSETFROM:+0100
TZOFFSETTO:+0200
TZNAME:CEST
DTSTART:20250330T010000
END:DAYLIGHT
BEGIN:STANDARD
TZOFFSETFROM:+0200
TZOFFSETTO:+0100
TZNAME:CET
DTSTART:20251026T010000
END:STANDARD
BEGIN:DAYLIGHT
TZOFFSETFROM:+0100
TZOFFSETTO:+0200
TZNAME:CEST
DTSTART:20260329T010000
END:DAYLIGHT
BEGIN:STANDARD
TZOFFSETFROM:+0200
TZOFFSETTO:+0100
TZNAME:CET
DTSTART:20261025T010000
END:STANDARD
END:VTIMEZONE
BEGIN:VEVENT
DTSTART;TZID=Europe/Berlin:20250107T180000
DTEND;TZID=Europe/Berlin:20250107T193000
DTSTAMP:20260420T202430
CREATED:20241221T104611Z
LAST-MODIFIED:20251002T171904Z
UID:10003444-1736272800-1736278200@stadtlabor-wittenberg.de
SUMMARY:weltlicher Chor
DESCRIPTION:Initiiert von einem Wittenberger Bürger findet regelmäßig ein städtischer/weltlicher Gesangsverein im Stadtlabor statt! Es soll fetzig und fröhlich werden und alle\, die mitmachen\, können sich in die Gestaltung des Chors einbringen. Wenn du auch Lust hast\, mitzumachen\, kannst du einfach zu den wöchentlichen Treffen dazustoßen!
URL:https://stadtlabor-wittenberg.de/list/weltlicher-chor/2025-01-07/
LOCATION:Im Stadtlabor am Markt 3\, Lutherstadt Wittenberg\, am Markt 3\, Lutherstadt Wittenberg
END:VEVENT
BEGIN:VEVENT
DTSTART;TZID=Europe/Berlin:20250112T140000
DTEND;TZID=Europe/Berlin:20250112T170000
DTSTAMP:20260420T202430
CREATED:20241221T103625Z
LAST-MODIFIED:20250108T171913Z
UID:10003158-1736690400-1736701200@stadtlabor-wittenberg.de
SUMMARY:Bücherflohmarkt
DESCRIPTION:Eine junge Bürgerin Wittenbergs organisiert einen Bücherflohmarkt im Stadtlabor und lädt alle herzlich ein\, selbst einen Stand aufzubauen oder zum Stöbern zu kommen! Wenn ihr also Bücher habt\, von denen ihr euch trennen möchtet\, zuhause etwas Platz schaffen wollt oder Ausschau nach Neuem haltet\, dann schaut unbedingt vorbei! Alle\, die selbst gerne ihre Bücher anbieten möchten\, können am Samstag einfach ab 13:30 ins Stadtlabor kommen. Bei einem Schalter am Eingang könnt ihr euch dann eintragen und euch anschließend einen Platz suchen – Raum haben wir genug und unsere mobilen Elemente im Stadtlabor können ganz frei arrangiert werden.
URL:https://stadtlabor-wittenberg.de/list/buecherflohmarkt/
LOCATION:Im Stadtlabor am Markt 3\, Lutherstadt Wittenberg\, am Markt 3\, Lutherstadt Wittenberg
END:VEVENT
BEGIN:VEVENT
DTSTART;TZID=Europe/Berlin:20250114T180000
DTEND;TZID=Europe/Berlin:20250114T193000
DTSTAMP:20260420T202430
CREATED:20241221T104611Z
LAST-MODIFIED:20251002T171904Z
UID:10003445-1736877600-1736883000@stadtlabor-wittenberg.de
SUMMARY:weltlicher Chor
DESCRIPTION:Initiiert von einem Wittenberger Bürger findet regelmäßig ein städtischer/weltlicher Gesangsverein im Stadtlabor statt! Es soll fetzig und fröhlich werden und alle\, die mitmachen\, können sich in die Gestaltung des Chors einbringen. Wenn du auch Lust hast\, mitzumachen\, kannst du einfach zu den wöchentlichen Treffen dazustoßen!
URL:https://stadtlabor-wittenberg.de/list/weltlicher-chor/2025-01-14/
LOCATION:Im Stadtlabor am Markt 3\, Lutherstadt Wittenberg\, am Markt 3\, Lutherstadt Wittenberg
END:VEVENT
BEGIN:VEVENT
DTSTART;TZID=Europe/Berlin:20250118T150000
DTEND;TZID=Europe/Berlin:20250118T180000
DTSTAMP:20260420T202430
CREATED:20241221T103448Z
LAST-MODIFIED:20250109T182240Z
UID:10003157-1737212400-1737223200@stadtlabor-wittenberg.de
SUMMARY:Cinemastories
DESCRIPTION:Bei CINEMASTORIES zeigt euch die Filmemacherin Anastasia Veber* an zwei Wochenenden\, wie einfach es ist\, magische Momente im Alltag zu finden und sie sichtbar zu machen. Sie interessiert sich besonders für die Sicht der „Outsider“ und die Kraft\, die diese Perspektive innehält. Bei dem Workshop könnt ihr lernen\, wie ihr euer Handy dazu nutzen könnt\, filmreife Videos zu drehen\, ohne etwas „falsch“ machen zu können. Ihr lernt auch\, wie ihr durch den Schnitt eigene Ideen\, eine eigene Filmsprache und tatsächlich einen eigenen Film entwickeln könnt – und das ohne teures Equipment\, große Geldsummen und Filmschule. Dazu werdet ihr Beispiele von großen Regisseur:innen analysieren\, eine einfache Software zur Videobearbeitung lernen und einen neuen\, intuitiven und sehr persönlichen Blick auf das Filmemachen entwickeln. Gemeinsam taucht ihr in die Straßen Wittenbergs ein und lasst euch von euren Kameras – und der Leidenschaft zum Film – leiten\, experimentiert mit Bildern und übt einen wachsamen Blick auf die Umgebung. \nAnmeldung und nähere Infos hier: http://www.stadtlabor-wittenberg.de/cinemastories \n*Anastasia Veber ist eine Regisseurin\, Autorin und Produzentin. Sie hat bei dem internationalen Filmfestival „Berlinale“ für ihren Kurzfilm „Trap“ den bedeutendsten Preis – den Goldenen Bären – gewonnen und wurde für ihre anderen Kurzfilme ebenfalls mehrfach ausgezeichnet. Anastasia kommt aus Sankt Petersburg (Russland) und lebt seit einigen Jahren in Berlin. Aktuell hat sie ein Stipendium (Cannes Residency) in Paris\, wo sie an ihrem nächsten Film „Kindergarten Optimisten“ arbeitet. CINEMASTORIES ist ein Format\, welches sie bereits drei Mal durchgeführt hat und als eigenständiges Bildungsprogramm entwickelt.\nhier könnt ihr mehr über Anastasia erfahren:\nhttp://anastasiaveber.com/\nhttps://www.instagram.com/cinemacore.veber/
URL:https://stadtlabor-wittenberg.de/list/cinemastories-4/
LOCATION:Im Stadtlabor am Markt 3\, Lutherstadt Wittenberg\, am Markt 3\, Lutherstadt Wittenberg
END:VEVENT
BEGIN:VEVENT
DTSTART;TZID=Europe/Berlin:20250119T120000
DTEND;TZID=Europe/Berlin:20250119T150000
DTSTAMP:20260420T202430
CREATED:20241221T103323Z
LAST-MODIFIED:20250109T182152Z
UID:10003155-1737288000-1737298800@stadtlabor-wittenberg.de
SUMMARY:Cinemastories
DESCRIPTION:Bei CINEMASTORIES zeigt euch die Filmemacherin Anastasia Veber* an zwei Wochenenden\, wie einfach es ist\, magische Momente im Alltag zu finden und sie sichtbar zu machen. Sie interessiert sich besonders für die Sicht der „Outsider“ und die Kraft\, die diese Perspektive innehält. Bei dem Workshop könnt ihr lernen\, wie ihr euer Handy dazu nutzen könnt\, filmreife Videos zu drehen\, ohne etwas „falsch“ machen zu können. Ihr lernt auch\, wie ihr durch den Schnitt eigene Ideen\, eine eigene Filmsprache und tatsächlich einen eigenen Film entwickeln könnt – und das ohne teures Equipment\, große Geldsummen und Filmschule. Dazu werdet ihr Beispiele von großen Regisseur:innen analysieren\, eine einfache Software zur Videobearbeitung lernen und einen neuen\, intuitiven und sehr persönlichen Blick auf das Filmemachen entwickeln. Gemeinsam taucht ihr in die Straßen Wittenbergs ein und lasst euch von euren Kameras – und der Leidenschaft zum Film – leiten\, experimentiert mit Bildern und übt einen wachsamen Blick auf die Umgebung. \nAnmeldung und nähere Infos hier: http://www.stadtlabor-wittenberg.de/cinemastories \n*Anastasia Veber ist eine Regisseurin\, Autorin und Produzentin. Sie hat bei dem internationalen Filmfestival „Berlinale“ für ihren Kurzfilm „Trap“ den bedeutendsten Preis – den Goldenen Bären – gewonnen und wurde für ihre anderen Kurzfilme ebenfalls mehrfach ausgezeichnet. Anastasia kommt aus Sankt Petersburg (Russland) und lebt seit einigen Jahren in Berlin. Aktuell hat sie ein Stipendium (Cannes Residency) in Paris\, wo sie an ihrem nächsten Film „Kindergarten Optimisten“ arbeitet. CINEMASTORIES ist ein Format\, welches sie bereits drei Mal durchgeführt hat und als eigenständiges Bildungsprogramm entwickelt.\nhier könnt ihr mehr über Anastasia erfahren:\nhttp://anastasiaveber.com/\nhttps://www.instagram.com/cinemacore.veber/
URL:https://stadtlabor-wittenberg.de/list/cinemastories-2/
LOCATION:Im Stadtlabor am Markt 3\, Lutherstadt Wittenberg\, am Markt 3\, Lutherstadt Wittenberg
END:VEVENT
BEGIN:VEVENT
DTSTART;TZID=Europe/Berlin:20250121T180000
DTEND;TZID=Europe/Berlin:20250121T193000
DTSTAMP:20260420T202430
CREATED:20241221T104611Z
LAST-MODIFIED:20251002T171904Z
UID:10003446-1737482400-1737487800@stadtlabor-wittenberg.de
SUMMARY:weltlicher Chor
DESCRIPTION:Initiiert von einem Wittenberger Bürger findet regelmäßig ein städtischer/weltlicher Gesangsverein im Stadtlabor statt! Es soll fetzig und fröhlich werden und alle\, die mitmachen\, können sich in die Gestaltung des Chors einbringen. Wenn du auch Lust hast\, mitzumachen\, kannst du einfach zu den wöchentlichen Treffen dazustoßen!
URL:https://stadtlabor-wittenberg.de/list/weltlicher-chor/2025-01-21/
LOCATION:Im Stadtlabor am Markt 3\, Lutherstadt Wittenberg\, am Markt 3\, Lutherstadt Wittenberg
END:VEVENT
BEGIN:VEVENT
DTSTART;TZID=Europe/Berlin:20250124T170000
DTEND;TZID=Europe/Berlin:20250124T200000
DTSTAMP:20260420T202430
CREATED:20241221T104140Z
LAST-MODIFIED:20241221T104140Z
UID:10003159-1737738000-1737748800@stadtlabor-wittenberg.de
SUMMARY:Kreativer Abend
DESCRIPTION:Du würdest gern gemeinsam mit anderen in entspannter Runde malen\, zeichnen\, basteln – oder dich anderweitig kreativ ausleben? Dann komm gern vorbei zum Kreativen Abend! Zwei Freundinnen aus Wittenberg treffen sich dazu regelmäßig im Stadtlabor und freuen sich auf alle\, die interessiert sind\, mitzumachen!
URL:https://stadtlabor-wittenberg.de/list/kreativer-abend-3/
LOCATION:Im Stadtlabor am Markt 3\, Lutherstadt Wittenberg\, am Markt 3\, Lutherstadt Wittenberg
END:VEVENT
BEGIN:VEVENT
DTSTART;TZID=Europe/Berlin:20250125T120000
DTEND;TZID=Europe/Berlin:20250125T150000
DTSTAMP:20260420T202430
CREATED:20241221T102926Z
LAST-MODIFIED:20250124T112154Z
UID:10003154-1737806400-1737817200@stadtlabor-wittenberg.de
SUMMARY:Cinemastories
DESCRIPTION:Bei CINEMASTORIES zeigt euch die Filmemacherin Anastasia Veber* an zwei Wochenenden\, wie einfach es ist\, magische Momente im Alltag zu finden und sie sichtbar zu machen. Sie interessiert sich besonders für die Sicht der „Outsider“ und die Kraft\, die diese Perspektive innehält. Bei dem Workshop könnt ihr lernen\, wie ihr euer Handy dazu nutzen könnt\, filmreife Videos zu drehen\, ohne etwas „falsch“ machen zu können. Ihr lernt auch\, wie ihr durch den Schnitt eigene Ideen\, eine eigene Filmsprache und tatsächlich einen eigenen Film entwickeln könnt – und das ohne teures Equipment\, große Geldsummen und Filmschule. Dazu werdet ihr Beispiele von großen Regisseur:innen analysieren\, eine einfache Software zur Videobearbeitung lernen und einen neuen\, intuitiven und sehr persönlichen Blick auf das Filmemachen entwickeln. Gemeinsam taucht ihr in die Straßen Wittenbergs ein und lasst euch von euren Kameras – und der Leidenschaft zum Film – leiten\, experimentiert mit Bildern und übt einen wachsamen Blick auf die Umgebung. \nAnmeldung und nähere Infos hier: http://www.stadtlabor-wittenberg.de/cinemastories \n*Anastasia Veber ist eine Regisseurin\, Autorin und Produzentin. Sie hat bei dem internationalen Filmfestival „Berlinale“ für ihren Kurzfilm „Trap“ den bedeutendsten Preis – den Goldenen Bären – gewonnen und wurde für ihre anderen Kurzfilme ebenfalls mehrfach ausgezeichnet. Anastasia kommt aus Sankt Petersburg (Russland) und lebt seit einigen Jahren in Berlin. Aktuell hat sie ein Stipendium (Cannes Residency) in Paris\, wo sie an ihrem nächsten Film „Kindergarten Optimisten“ arbeitet. CINEMASTORIES ist ein Format\, welches sie bereits drei Mal durchgeführt hat und als eigenständiges Bildungsprogramm entwickelt.\nhier könnt ihr mehr über Anastasia erfahren:\nhttp://anastasiaveber.com/\nhttps://www.instagram.com/cinemacore.veber/
URL:https://stadtlabor-wittenberg.de/list/cinemastories/
LOCATION:Im Stadtlabor am Markt 3\, Lutherstadt Wittenberg\, am Markt 3\, Lutherstadt Wittenberg
END:VEVENT
BEGIN:VEVENT
DTSTART;TZID=Europe/Berlin:20250126T130000
DTEND;TZID=Europe/Berlin:20250126T150000
DTSTAMP:20260420T202430
CREATED:20241221T103358Z
LAST-MODIFIED:20250109T182125Z
UID:10003156-1737896400-1737903600@stadtlabor-wittenberg.de
SUMMARY:Cinemastories
DESCRIPTION:Bei CINEMASTORIES zeigt euch die Filmemacherin Anastasia Veber* an zwei Wochenenden\, wie einfach es ist\, magische Momente im Alltag zu finden und sie sichtbar zu machen. Sie interessiert sich besonders für die Sicht der „Outsider“ und die Kraft\, die diese Perspektive innehält. Bei dem Workshop könnt ihr lernen\, wie ihr euer Handy dazu nutzen könnt\, filmreife Videos zu drehen\, ohne etwas „falsch“ machen zu können. Ihr lernt auch\, wie ihr durch den Schnitt eigene Ideen\, eine eigene Filmsprache und tatsächlich einen eigenen Film entwickeln könnt – und das ohne teures Equipment\, große Geldsummen und Filmschule. Dazu werdet ihr Beispiele von großen Regisseur:innen analysieren\, eine einfache Software zur Videobearbeitung lernen und einen neuen\, intuitiven und sehr persönlichen Blick auf das Filmemachen entwickeln. Gemeinsam taucht ihr in die Straßen Wittenbergs ein und lasst euch von euren Kameras – und der Leidenschaft zum Film – leiten\, experimentiert mit Bildern und übt einen wachsamen Blick auf die Umgebung. \nAnmeldung und nähere Infos hier: http://www.stadtlabor-wittenberg.de/cinemastories \n*Anastasia Veber ist eine Regisseurin\, Autorin und Produzentin. Sie hat bei dem internationalen Filmfestival „Berlinale“ für ihren Kurzfilm „Trap“ den bedeutendsten Preis – den Goldenen Bären – gewonnen und wurde für ihre anderen Kurzfilme ebenfalls mehrfach ausgezeichnet. Anastasia kommt aus Sankt Petersburg (Russland) und lebt seit einigen Jahren in Berlin. Aktuell hat sie ein Stipendium (Cannes Residency) in Paris\, wo sie an ihrem nächsten Film „Kindergarten Optimisten“ arbeitet. CINEMASTORIES ist ein Format\, welches sie bereits drei Mal durchgeführt hat und als eigenständiges Bildungsprogramm entwickelt.\nhier könnt ihr mehr über Anastasia erfahren:\nhttp://anastasiaveber.com/\nhttps://www.instagram.com/cinemacore.veber/
URL:https://stadtlabor-wittenberg.de/list/cinemastories-3/
LOCATION:Im Stadtlabor am Markt 3\, Lutherstadt Wittenberg\, am Markt 3\, Lutherstadt Wittenberg
END:VEVENT
BEGIN:VEVENT
DTSTART;TZID=Europe/Berlin:20250128T180000
DTEND;TZID=Europe/Berlin:20250128T193000
DTSTAMP:20260420T202430
CREATED:20241221T104611Z
LAST-MODIFIED:20251002T171904Z
UID:10003447-1738087200-1738092600@stadtlabor-wittenberg.de
SUMMARY:weltlicher Chor
DESCRIPTION:Initiiert von einem Wittenberger Bürger findet regelmäßig ein städtischer/weltlicher Gesangsverein im Stadtlabor statt! Es soll fetzig und fröhlich werden und alle\, die mitmachen\, können sich in die Gestaltung des Chors einbringen. Wenn du auch Lust hast\, mitzumachen\, kannst du einfach zu den wöchentlichen Treffen dazustoßen!
URL:https://stadtlabor-wittenberg.de/list/weltlicher-chor/2025-01-28/
LOCATION:Im Stadtlabor am Markt 3\, Lutherstadt Wittenberg\, am Markt 3\, Lutherstadt Wittenberg
END:VEVENT
END:VCALENDAR